BEGIN:VCALENDAR
VERSION:2.0
PRODID:-//Plymouth Congregational Church - ECPv6.15.20//NONSGML v1.0//EN
CALSCALE:GREGORIAN
METHOD:PUBLISH
X-WR-CALNAME:Plymouth Congregational Church
X-ORIGINAL-URL:https://plymouthmiami.org
X-WR-CALDESC:Events for Plymouth Congregational Church
REFRESH-INTERVAL;VALUE=DURATION:PT1H
X-Robots-Tag:noindex
X-PUBLISHED-TTL:PT1H
BEGIN:VTIMEZONE
TZID:UTC
BEGIN:STANDARD
TZOFFSETFROM:+0000
TZOFFSETTO:+0000
TZNAME:UTC
DTSTART:20250101T000000
END:STANDARD
END:VTIMEZONE
BEGIN:VEVENT
DTSTART;TZID=UTC:20260421T133000
DTEND;TZID=UTC:20260421T150000
DTSTAMP:20260420T020138
CREATED:20260403T170530Z
LAST-MODIFIED:20260403T170531Z
UID:990003808-1776778200-1776783600@plymouthmiami.org
SUMMARY:Play Mahjong With Us!
DESCRIPTION:Play Mahjong with us! Interested in playing Mahjong with a group at Plymouth? We’ll be meeting every Tuesday in at 1:30 p.m. in Plymouth Hall. Please let Lauren de Lavalette (laurendelavalette@gmail.com) or Lynn Bunis (lynnbrandibunis@gmail.com) know if you plan to join us!
URL:https://plymouthmiami.org/event/mahjong-2/2026-04-21/
ATTACH;FMTTYPE=image/jpeg:https://plymouthmiami.org/wp-content/uploads/2026/02/Mahjong-calendar-size.jpg
END:VEVENT
BEGIN:VEVENT
DTSTART;TZID=UTC:20260428T133000
DTEND;TZID=UTC:20260428T150000
DTSTAMP:20260420T020138
CREATED:20260403T170530Z
LAST-MODIFIED:20260403T170531Z
UID:990003809-1777383000-1777388400@plymouthmiami.org
SUMMARY:Play Mahjong With Us!
DESCRIPTION:Play Mahjong with us! Interested in playing Mahjong with a group at Plymouth? We’ll be meeting every Tuesday in at 1:30 p.m. in Plymouth Hall. Please let Lauren de Lavalette (laurendelavalette@gmail.com) or Lynn Bunis (lynnbrandibunis@gmail.com) know if you plan to join us!
URL:https://plymouthmiami.org/event/mahjong-2/2026-04-28/
ATTACH;FMTTYPE=image/jpeg:https://plymouthmiami.org/wp-content/uploads/2026/02/Mahjong-calendar-size.jpg
END:VEVENT
BEGIN:VEVENT
DTSTART;TZID=UTC:20260505T133000
DTEND;TZID=UTC:20260505T150000
DTSTAMP:20260420T020138
CREATED:20260403T170530Z
LAST-MODIFIED:20260403T170531Z
UID:990003810-1777987800-1777993200@plymouthmiami.org
SUMMARY:Play Mahjong With Us!
DESCRIPTION:Play Mahjong with us! Interested in playing Mahjong with a group at Plymouth? We’ll be meeting every Tuesday in at 1:30 p.m. in Plymouth Hall. Please let Lauren de Lavalette (laurendelavalette@gmail.com) or Lynn Bunis (lynnbrandibunis@gmail.com) know if you plan to join us!
URL:https://plymouthmiami.org/event/mahjong-2/2026-05-05/
ATTACH;FMTTYPE=image/jpeg:https://plymouthmiami.org/wp-content/uploads/2026/02/Mahjong-calendar-size.jpg
END:VEVENT
BEGIN:VEVENT
DTSTART;TZID=UTC:20260512T133000
DTEND;TZID=UTC:20260512T150000
DTSTAMP:20260420T020138
CREATED:20260403T170530Z
LAST-MODIFIED:20260403T170531Z
UID:990003811-1778592600-1778598000@plymouthmiami.org
SUMMARY:Play Mahjong With Us!
DESCRIPTION:Play Mahjong with us! Interested in playing Mahjong with a group at Plymouth? We’ll be meeting every Tuesday in at 1:30 p.m. in Plymouth Hall. Please let Lauren de Lavalette (laurendelavalette@gmail.com) or Lynn Bunis (lynnbrandibunis@gmail.com) know if you plan to join us!
URL:https://plymouthmiami.org/event/mahjong-2/2026-05-12/
ATTACH;FMTTYPE=image/jpeg:https://plymouthmiami.org/wp-content/uploads/2026/02/Mahjong-calendar-size.jpg
END:VEVENT
BEGIN:VEVENT
DTSTART;TZID=UTC:20260519T133000
DTEND;TZID=UTC:20260519T150000
DTSTAMP:20260420T020138
CREATED:20260403T170530Z
LAST-MODIFIED:20260403T170531Z
UID:990003812-1779197400-1779202800@plymouthmiami.org
SUMMARY:Play Mahjong With Us!
DESCRIPTION:Play Mahjong with us! Interested in playing Mahjong with a group at Plymouth? We’ll be meeting every Tuesday in at 1:30 p.m. in Plymouth Hall. Please let Lauren de Lavalette (laurendelavalette@gmail.com) or Lynn Bunis (lynnbrandibunis@gmail.com) know if you plan to join us!
URL:https://plymouthmiami.org/event/mahjong-2/2026-05-19/
ATTACH;FMTTYPE=image/jpeg:https://plymouthmiami.org/wp-content/uploads/2026/02/Mahjong-calendar-size.jpg
END:VEVENT
BEGIN:VEVENT
DTSTART;TZID=UTC:20260526T133000
DTEND;TZID=UTC:20260526T150000
DTSTAMP:20260420T020138
CREATED:20260403T170530Z
LAST-MODIFIED:20260403T170531Z
UID:990003813-1779802200-1779807600@plymouthmiami.org
SUMMARY:Play Mahjong With Us!
DESCRIPTION:Play Mahjong with us! Interested in playing Mahjong with a group at Plymouth? We’ll be meeting every Tuesday in at 1:30 p.m. in Plymouth Hall. Please let Lauren de Lavalette (laurendelavalette@gmail.com) or Lynn Bunis (lynnbrandibunis@gmail.com) know if you plan to join us!
URL:https://plymouthmiami.org/event/mahjong-2/2026-05-26/
ATTACH;FMTTYPE=image/jpeg:https://plymouthmiami.org/wp-content/uploads/2026/02/Mahjong-calendar-size.jpg
END:VEVENT
BEGIN:VEVENT
DTSTART;TZID=UTC:20260602T133000
DTEND;TZID=UTC:20260602T150000
DTSTAMP:20260420T020138
CREATED:20260403T170530Z
LAST-MODIFIED:20260403T170531Z
UID:990003814-1780407000-1780412400@plymouthmiami.org
SUMMARY:Play Mahjong With Us!
DESCRIPTION:Play Mahjong with us! Interested in playing Mahjong with a group at Plymouth? We’ll be meeting every Tuesday in at 1:30 p.m. in Plymouth Hall. Please let Lauren de Lavalette (laurendelavalette@gmail.com) or Lynn Bunis (lynnbrandibunis@gmail.com) know if you plan to join us!
URL:https://plymouthmiami.org/event/mahjong-2/2026-06-02/
ATTACH;FMTTYPE=image/jpeg:https://plymouthmiami.org/wp-content/uploads/2026/02/Mahjong-calendar-size.jpg
END:VEVENT
BEGIN:VEVENT
DTSTART;TZID=UTC:20260609T133000
DTEND;TZID=UTC:20260609T150000
DTSTAMP:20260420T020138
CREATED:20260403T170530Z
LAST-MODIFIED:20260403T170531Z
UID:990003815-1781011800-1781017200@plymouthmiami.org
SUMMARY:Play Mahjong With Us!
DESCRIPTION:Play Mahjong with us! Interested in playing Mahjong with a group at Plymouth? We’ll be meeting every Tuesday in at 1:30 p.m. in Plymouth Hall. Please let Lauren de Lavalette (laurendelavalette@gmail.com) or Lynn Bunis (lynnbrandibunis@gmail.com) know if you plan to join us!
URL:https://plymouthmiami.org/event/mahjong-2/2026-06-09/
ATTACH;FMTTYPE=image/jpeg:https://plymouthmiami.org/wp-content/uploads/2026/02/Mahjong-calendar-size.jpg
END:VEVENT
BEGIN:VEVENT
DTSTART;TZID=UTC:20260616T133000
DTEND;TZID=UTC:20260616T150000
DTSTAMP:20260420T020138
CREATED:20260403T170530Z
LAST-MODIFIED:20260403T170531Z
UID:990003816-1781616600-1781622000@plymouthmiami.org
SUMMARY:Play Mahjong With Us!
DESCRIPTION:Play Mahjong with us! Interested in playing Mahjong with a group at Plymouth? We’ll be meeting every Tuesday in at 1:30 p.m. in Plymouth Hall. Please let Lauren de Lavalette (laurendelavalette@gmail.com) or Lynn Bunis (lynnbrandibunis@gmail.com) know if you plan to join us!
URL:https://plymouthmiami.org/event/mahjong-2/2026-06-16/
ATTACH;FMTTYPE=image/jpeg:https://plymouthmiami.org/wp-content/uploads/2026/02/Mahjong-calendar-size.jpg
END:VEVENT
BEGIN:VEVENT
DTSTART;TZID=UTC:20260623T133000
DTEND;TZID=UTC:20260623T150000
DTSTAMP:20260420T020138
CREATED:20260403T170530Z
LAST-MODIFIED:20260403T170531Z
UID:990003817-1782221400-1782226800@plymouthmiami.org
SUMMARY:Play Mahjong With Us!
DESCRIPTION:Play Mahjong with us! Interested in playing Mahjong with a group at Plymouth? We’ll be meeting every Tuesday in at 1:30 p.m. in Plymouth Hall. Please let Lauren de Lavalette (laurendelavalette@gmail.com) or Lynn Bunis (lynnbrandibunis@gmail.com) know if you plan to join us!
URL:https://plymouthmiami.org/event/mahjong-2/2026-06-23/
ATTACH;FMTTYPE=image/jpeg:https://plymouthmiami.org/wp-content/uploads/2026/02/Mahjong-calendar-size.jpg
END:VEVENT
BEGIN:VEVENT
DTSTART;TZID=UTC:20260630T133000
DTEND;TZID=UTC:20260630T150000
DTSTAMP:20260420T020138
CREATED:20260403T170530Z
LAST-MODIFIED:20260403T170531Z
UID:990003818-1782826200-1782831600@plymouthmiami.org
SUMMARY:Play Mahjong With Us!
DESCRIPTION:Play Mahjong with us! Interested in playing Mahjong with a group at Plymouth? We’ll be meeting every Tuesday in at 1:30 p.m. in Plymouth Hall. Please let Lauren de Lavalette (laurendelavalette@gmail.com) or Lynn Bunis (lynnbrandibunis@gmail.com) know if you plan to join us!
URL:https://plymouthmiami.org/event/mahjong-2/2026-06-30/
ATTACH;FMTTYPE=image/jpeg:https://plymouthmiami.org/wp-content/uploads/2026/02/Mahjong-calendar-size.jpg
END:VEVENT
BEGIN:VEVENT
DTSTART;TZID=UTC:20260707T133000
DTEND;TZID=UTC:20260707T150000
DTSTAMP:20260420T020138
CREATED:20260403T170530Z
LAST-MODIFIED:20260403T170531Z
UID:990003819-1783431000-1783436400@plymouthmiami.org
SUMMARY:Play Mahjong With Us!
DESCRIPTION:Play Mahjong with us! Interested in playing Mahjong with a group at Plymouth? We’ll be meeting every Tuesday in at 1:30 p.m. in Plymouth Hall. Please let Lauren de Lavalette (laurendelavalette@gmail.com) or Lynn Bunis (lynnbrandibunis@gmail.com) know if you plan to join us!
URL:https://plymouthmiami.org/event/mahjong-2/2026-07-07/
ATTACH;FMTTYPE=image/jpeg:https://plymouthmiami.org/wp-content/uploads/2026/02/Mahjong-calendar-size.jpg
END:VEVENT
BEGIN:VEVENT
DTSTART;TZID=UTC:20260714T133000
DTEND;TZID=UTC:20260714T150000
DTSTAMP:20260420T020138
CREATED:20260403T170530Z
LAST-MODIFIED:20260403T170531Z
UID:990003820-1784035800-1784041200@plymouthmiami.org
SUMMARY:Play Mahjong With Us!
DESCRIPTION:Play Mahjong with us! Interested in playing Mahjong with a group at Plymouth? We’ll be meeting every Tuesday in at 1:30 p.m. in Plymouth Hall. Please let Lauren de Lavalette (laurendelavalette@gmail.com) or Lynn Bunis (lynnbrandibunis@gmail.com) know if you plan to join us!
URL:https://plymouthmiami.org/event/mahjong-2/2026-07-14/
ATTACH;FMTTYPE=image/jpeg:https://plymouthmiami.org/wp-content/uploads/2026/02/Mahjong-calendar-size.jpg
END:VEVENT
BEGIN:VEVENT
DTSTART;TZID=UTC:20260721T133000
DTEND;TZID=UTC:20260721T150000
DTSTAMP:20260420T020138
CREATED:20260403T170530Z
LAST-MODIFIED:20260403T170531Z
UID:990003821-1784640600-1784646000@plymouthmiami.org
SUMMARY:Play Mahjong With Us!
DESCRIPTION:Play Mahjong with us! Interested in playing Mahjong with a group at Plymouth? We’ll be meeting every Tuesday in at 1:30 p.m. in Plymouth Hall. Please let Lauren de Lavalette (laurendelavalette@gmail.com) or Lynn Bunis (lynnbrandibunis@gmail.com) know if you plan to join us!
URL:https://plymouthmiami.org/event/mahjong-2/2026-07-21/
ATTACH;FMTTYPE=image/jpeg:https://plymouthmiami.org/wp-content/uploads/2026/02/Mahjong-calendar-size.jpg
END:VEVENT
BEGIN:VEVENT
DTSTART;TZID=UTC:20260728T133000
DTEND;TZID=UTC:20260728T150000
DTSTAMP:20260420T020138
CREATED:20260403T170530Z
LAST-MODIFIED:20260403T170531Z
UID:990003822-1785245400-1785250800@plymouthmiami.org
SUMMARY:Play Mahjong With Us!
DESCRIPTION:Play Mahjong with us! Interested in playing Mahjong with a group at Plymouth? We’ll be meeting every Tuesday in at 1:30 p.m. in Plymouth Hall. Please let Lauren de Lavalette (laurendelavalette@gmail.com) or Lynn Bunis (lynnbrandibunis@gmail.com) know if you plan to join us!
URL:https://plymouthmiami.org/event/mahjong-2/2026-07-28/
ATTACH;FMTTYPE=image/jpeg:https://plymouthmiami.org/wp-content/uploads/2026/02/Mahjong-calendar-size.jpg
END:VEVENT
BEGIN:VEVENT
DTSTART;TZID=UTC:20260804T133000
DTEND;TZID=UTC:20260804T150000
DTSTAMP:20260420T020138
CREATED:20260403T170530Z
LAST-MODIFIED:20260403T170531Z
UID:990003823-1785850200-1785855600@plymouthmiami.org
SUMMARY:Play Mahjong With Us!
DESCRIPTION:Play Mahjong with us! Interested in playing Mahjong with a group at Plymouth? We’ll be meeting every Tuesday in at 1:30 p.m. in Plymouth Hall. Please let Lauren de Lavalette (laurendelavalette@gmail.com) or Lynn Bunis (lynnbrandibunis@gmail.com) know if you plan to join us!
URL:https://plymouthmiami.org/event/mahjong-2/2026-08-04/
ATTACH;FMTTYPE=image/jpeg:https://plymouthmiami.org/wp-content/uploads/2026/02/Mahjong-calendar-size.jpg
END:VEVENT
BEGIN:VEVENT
DTSTART;TZID=UTC:20260811T133000
DTEND;TZID=UTC:20260811T150000
DTSTAMP:20260420T020138
CREATED:20260403T170530Z
LAST-MODIFIED:20260403T170531Z
UID:990003824-1786455000-1786460400@plymouthmiami.org
SUMMARY:Play Mahjong With Us!
DESCRIPTION:Play Mahjong with us! Interested in playing Mahjong with a group at Plymouth? We’ll be meeting every Tuesday in at 1:30 p.m. in Plymouth Hall. Please let Lauren de Lavalette (laurendelavalette@gmail.com) or Lynn Bunis (lynnbrandibunis@gmail.com) know if you plan to join us!
URL:https://plymouthmiami.org/event/mahjong-2/2026-08-11/
ATTACH;FMTTYPE=image/jpeg:https://plymouthmiami.org/wp-content/uploads/2026/02/Mahjong-calendar-size.jpg
END:VEVENT
BEGIN:VEVENT
DTSTART;TZID=UTC:20260818T133000
DTEND;TZID=UTC:20260818T150000
DTSTAMP:20260420T020138
CREATED:20260403T170530Z
LAST-MODIFIED:20260403T170531Z
UID:990003825-1787059800-1787065200@plymouthmiami.org
SUMMARY:Play Mahjong With Us!
DESCRIPTION:Play Mahjong with us! Interested in playing Mahjong with a group at Plymouth? We’ll be meeting every Tuesday in at 1:30 p.m. in Plymouth Hall. Please let Lauren de Lavalette (laurendelavalette@gmail.com) or Lynn Bunis (lynnbrandibunis@gmail.com) know if you plan to join us!
URL:https://plymouthmiami.org/event/mahjong-2/2026-08-18/
ATTACH;FMTTYPE=image/jpeg:https://plymouthmiami.org/wp-content/uploads/2026/02/Mahjong-calendar-size.jpg
END:VEVENT
BEGIN:VEVENT
DTSTART;TZID=UTC:20260825T133000
DTEND;TZID=UTC:20260825T150000
DTSTAMP:20260420T020138
CREATED:20260403T170530Z
LAST-MODIFIED:20260403T170531Z
UID:990003826-1787664600-1787670000@plymouthmiami.org
SUMMARY:Play Mahjong With Us!
DESCRIPTION:Play Mahjong with us! Interested in playing Mahjong with a group at Plymouth? We’ll be meeting every Tuesday in at 1:30 p.m. in Plymouth Hall. Please let Lauren de Lavalette (laurendelavalette@gmail.com) or Lynn Bunis (lynnbrandibunis@gmail.com) know if you plan to join us!
URL:https://plymouthmiami.org/event/mahjong-2/2026-08-25/
ATTACH;FMTTYPE=image/jpeg:https://plymouthmiami.org/wp-content/uploads/2026/02/Mahjong-calendar-size.jpg
END:VEVENT
BEGIN:VEVENT
DTSTART;TZID=UTC:20260901T133000
DTEND;TZID=UTC:20260901T150000
DTSTAMP:20260420T020138
CREATED:20260403T170530Z
LAST-MODIFIED:20260403T170531Z
UID:990003827-1788269400-1788274800@plymouthmiami.org
SUMMARY:Play Mahjong With Us!
DESCRIPTION:Play Mahjong with us! Interested in playing Mahjong with a group at Plymouth? We’ll be meeting every Tuesday in at 1:30 p.m. in Plymouth Hall. Please let Lauren de Lavalette (laurendelavalette@gmail.com) or Lynn Bunis (lynnbrandibunis@gmail.com) know if you plan to join us!
URL:https://plymouthmiami.org/event/mahjong-2/2026-09-01/
ATTACH;FMTTYPE=image/jpeg:https://plymouthmiami.org/wp-content/uploads/2026/02/Mahjong-calendar-size.jpg
END:VEVENT
BEGIN:VEVENT
DTSTART;TZID=UTC:20260908T133000
DTEND;TZID=UTC:20260908T150000
DTSTAMP:20260420T020138
CREATED:20260403T170530Z
LAST-MODIFIED:20260403T170531Z
UID:990003828-1788874200-1788879600@plymouthmiami.org
SUMMARY:Play Mahjong With Us!
DESCRIPTION:Play Mahjong with us! Interested in playing Mahjong with a group at Plymouth? We’ll be meeting every Tuesday in at 1:30 p.m. in Plymouth Hall. Please let Lauren de Lavalette (laurendelavalette@gmail.com) or Lynn Bunis (lynnbrandibunis@gmail.com) know if you plan to join us!
URL:https://plymouthmiami.org/event/mahjong-2/2026-09-08/
ATTACH;FMTTYPE=image/jpeg:https://plymouthmiami.org/wp-content/uploads/2026/02/Mahjong-calendar-size.jpg
END:VEVENT
BEGIN:VEVENT
DTSTART;TZID=UTC:20260915T133000
DTEND;TZID=UTC:20260915T150000
DTSTAMP:20260420T020138
CREATED:20260403T170530Z
LAST-MODIFIED:20260403T170531Z
UID:990003829-1789479000-1789484400@plymouthmiami.org
SUMMARY:Play Mahjong With Us!
DESCRIPTION:Play Mahjong with us! Interested in playing Mahjong with a group at Plymouth? We’ll be meeting every Tuesday in at 1:30 p.m. in Plymouth Hall. Please let Lauren de Lavalette (laurendelavalette@gmail.com) or Lynn Bunis (lynnbrandibunis@gmail.com) know if you plan to join us!
URL:https://plymouthmiami.org/event/mahjong-2/2026-09-15/
ATTACH;FMTTYPE=image/jpeg:https://plymouthmiami.org/wp-content/uploads/2026/02/Mahjong-calendar-size.jpg
END:VEVENT
BEGIN:VEVENT
DTSTART;TZID=UTC:20260922T133000
DTEND;TZID=UTC:20260922T150000
DTSTAMP:20260420T020138
CREATED:20260403T170530Z
LAST-MODIFIED:20260403T170531Z
UID:990003830-1790083800-1790089200@plymouthmiami.org
SUMMARY:Play Mahjong With Us!
DESCRIPTION:Play Mahjong with us! Interested in playing Mahjong with a group at Plymouth? We’ll be meeting every Tuesday in at 1:30 p.m. in Plymouth Hall. Please let Lauren de Lavalette (laurendelavalette@gmail.com) or Lynn Bunis (lynnbrandibunis@gmail.com) know if you plan to join us!
URL:https://plymouthmiami.org/event/mahjong-2/2026-09-22/
ATTACH;FMTTYPE=image/jpeg:https://plymouthmiami.org/wp-content/uploads/2026/02/Mahjong-calendar-size.jpg
END:VEVENT
BEGIN:VEVENT
DTSTART;TZID=UTC:20260929T133000
DTEND;TZID=UTC:20260929T150000
DTSTAMP:20260420T020138
CREATED:20260403T170530Z
LAST-MODIFIED:20260403T170531Z
UID:990003831-1790688600-1790694000@plymouthmiami.org
SUMMARY:Play Mahjong With Us!
DESCRIPTION:Play Mahjong with us! Interested in playing Mahjong with a group at Plymouth? We’ll be meeting every Tuesday in at 1:30 p.m. in Plymouth Hall. Please let Lauren de Lavalette (laurendelavalette@gmail.com) or Lynn Bunis (lynnbrandibunis@gmail.com) know if you plan to join us!
URL:https://plymouthmiami.org/event/mahjong-2/2026-09-29/
ATTACH;FMTTYPE=image/jpeg:https://plymouthmiami.org/wp-content/uploads/2026/02/Mahjong-calendar-size.jpg
END:VEVENT
BEGIN:VEVENT
DTSTART;TZID=UTC:20261006T133000
DTEND;TZID=UTC:20261006T150000
DTSTAMP:20260420T020138
CREATED:20260403T170530Z
LAST-MODIFIED:20260403T170531Z
UID:990003832-1791293400-1791298800@plymouthmiami.org
SUMMARY:Play Mahjong With Us!
DESCRIPTION:Play Mahjong with us! Interested in playing Mahjong with a group at Plymouth? We’ll be meeting every Tuesday in at 1:30 p.m. in Plymouth Hall. Please let Lauren de Lavalette (laurendelavalette@gmail.com) or Lynn Bunis (lynnbrandibunis@gmail.com) know if you plan to join us!
URL:https://plymouthmiami.org/event/mahjong-2/2026-10-06/
ATTACH;FMTTYPE=image/jpeg:https://plymouthmiami.org/wp-content/uploads/2026/02/Mahjong-calendar-size.jpg
END:VEVENT
BEGIN:VEVENT
DTSTART;TZID=UTC:20261013T133000
DTEND;TZID=UTC:20261013T150000
DTSTAMP:20260420T020138
CREATED:20260403T170530Z
LAST-MODIFIED:20260403T170531Z
UID:990003833-1791898200-1791903600@plymouthmiami.org
SUMMARY:Play Mahjong With Us!
DESCRIPTION:Play Mahjong with us! Interested in playing Mahjong with a group at Plymouth? We’ll be meeting every Tuesday in at 1:30 p.m. in Plymouth Hall. Please let Lauren de Lavalette (laurendelavalette@gmail.com) or Lynn Bunis (lynnbrandibunis@gmail.com) know if you plan to join us!
URL:https://plymouthmiami.org/event/mahjong-2/2026-10-13/
ATTACH;FMTTYPE=image/jpeg:https://plymouthmiami.org/wp-content/uploads/2026/02/Mahjong-calendar-size.jpg
END:VEVENT
BEGIN:VEVENT
DTSTART;TZID=UTC:20261020T133000
DTEND;TZID=UTC:20261020T150000
DTSTAMP:20260420T020138
CREATED:20260403T170530Z
LAST-MODIFIED:20260403T170531Z
UID:990003834-1792503000-1792508400@plymouthmiami.org
SUMMARY:Play Mahjong With Us!
DESCRIPTION:Play Mahjong with us! Interested in playing Mahjong with a group at Plymouth? We’ll be meeting every Tuesday in at 1:30 p.m. in Plymouth Hall. Please let Lauren de Lavalette (laurendelavalette@gmail.com) or Lynn Bunis (lynnbrandibunis@gmail.com) know if you plan to join us!
URL:https://plymouthmiami.org/event/mahjong-2/2026-10-20/
ATTACH;FMTTYPE=image/jpeg:https://plymouthmiami.org/wp-content/uploads/2026/02/Mahjong-calendar-size.jpg
END:VEVENT
BEGIN:VEVENT
DTSTART;TZID=UTC:20261027T133000
DTEND;TZID=UTC:20261027T150000
DTSTAMP:20260420T020138
CREATED:20260403T170530Z
LAST-MODIFIED:20260403T170531Z
UID:990003835-1793107800-1793113200@plymouthmiami.org
SUMMARY:Play Mahjong With Us!
DESCRIPTION:Play Mahjong with us! Interested in playing Mahjong with a group at Plymouth? We’ll be meeting every Tuesday in at 1:30 p.m. in Plymouth Hall. Please let Lauren de Lavalette (laurendelavalette@gmail.com) or Lynn Bunis (lynnbrandibunis@gmail.com) know if you plan to join us!
URL:https://plymouthmiami.org/event/mahjong-2/2026-10-27/
ATTACH;FMTTYPE=image/jpeg:https://plymouthmiami.org/wp-content/uploads/2026/02/Mahjong-calendar-size.jpg
END:VEVENT
BEGIN:VEVENT
DTSTART;TZID=UTC:20261103T133000
DTEND;TZID=UTC:20261103T150000
DTSTAMP:20260420T020138
CREATED:20260403T170530Z
LAST-MODIFIED:20260403T170531Z
UID:990003836-1793712600-1793718000@plymouthmiami.org
SUMMARY:Play Mahjong With Us!
DESCRIPTION:Play Mahjong with us! Interested in playing Mahjong with a group at Plymouth? We’ll be meeting every Tuesday in at 1:30 p.m. in Plymouth Hall. Please let Lauren de Lavalette (laurendelavalette@gmail.com) or Lynn Bunis (lynnbrandibunis@gmail.com) know if you plan to join us!
URL:https://plymouthmiami.org/event/mahjong-2/2026-11-03/
ATTACH;FMTTYPE=image/jpeg:https://plymouthmiami.org/wp-content/uploads/2026/02/Mahjong-calendar-size.jpg
END:VEVENT
BEGIN:VEVENT
DTSTART;TZID=UTC:20261110T133000
DTEND;TZID=UTC:20261110T150000
DTSTAMP:20260420T020138
CREATED:20260403T170530Z
LAST-MODIFIED:20260403T170531Z
UID:990003837-1794317400-1794322800@plymouthmiami.org
SUMMARY:Play Mahjong With Us!
DESCRIPTION:Play Mahjong with us! Interested in playing Mahjong with a group at Plymouth? We’ll be meeting every Tuesday in at 1:30 p.m. in Plymouth Hall. Please let Lauren de Lavalette (laurendelavalette@gmail.com) or Lynn Bunis (lynnbrandibunis@gmail.com) know if you plan to join us!
URL:https://plymouthmiami.org/event/mahjong-2/2026-11-10/
ATTACH;FMTTYPE=image/jpeg:https://plymouthmiami.org/wp-content/uploads/2026/02/Mahjong-calendar-size.jpg
END:VEVENT
END:VCALENDAR