BEGIN:VCALENDAR
VERSION:2.0
PRODID:-//Plymouth Congregational Church - ECPv6.15.20//NONSGML v1.0//EN
CALSCALE:GREGORIAN
METHOD:PUBLISH
X-WR-CALNAME:Plymouth Congregational Church
X-ORIGINAL-URL:https://plymouthmiami.org
X-WR-CALDESC:Events for Plymouth Congregational Church
REFRESH-INTERVAL;VALUE=DURATION:PT1H
X-Robots-Tag:noindex
X-PUBLISHED-TTL:PT1H
BEGIN:VTIMEZONE
TZID:UTC
BEGIN:STANDARD
TZOFFSETFROM:+0000
TZOFFSETTO:+0000
TZNAME:UTC
DTSTART:20250101T000000
END:STANDARD
END:VTIMEZONE
BEGIN:VEVENT
DTSTART;TZID=UTC:20260421T080000
DTEND;TZID=UTC:20260421T090000
DTSTAMP:20260421T163748
CREATED:20240425T175717Z
LAST-MODIFIED:20240425T175718Z
UID:990000554-1776758400-1776762000@plymouthmiami.org
SUMMARY:Men’s Bible Group
DESCRIPTION:Greenstreet Cafe (3468 Main Hwy\, Coconut Grove)
URL:https://plymouthmiami.org/event/mens-bible-group-2-2-2/2026-04-21/
CATEGORIES:All Church
END:VEVENT
BEGIN:VEVENT
DTSTART;TZID=UTC:20260421T133000
DTEND;TZID=UTC:20260421T150000
DTSTAMP:20260421T163748
CREATED:20260403T170530Z
LAST-MODIFIED:20260403T170531Z
UID:990003808-1776778200-1776783600@plymouthmiami.org
SUMMARY:Play Mahjong With Us!
DESCRIPTION:Play Mahjong with us! Interested in playing Mahjong with a group at Plymouth? We’ll be meeting every Tuesday in at 1:30 p.m. in Plymouth Hall. Please let Lauren de Lavalette (laurendelavalette@gmail.com) or Lynn Bunis (lynnbrandibunis@gmail.com) know if you plan to join us!
URL:https://plymouthmiami.org/event/mahjong-2/2026-04-21/
ATTACH;FMTTYPE=image/jpeg:https://plymouthmiami.org/wp-content/uploads/2026/02/Mahjong-calendar-size.jpg
END:VEVENT
BEGIN:VEVENT
DTSTART;TZID=UTC:20260421T190000
DTEND;TZID=UTC:20260421T200000
DTSTAMP:20260421T163748
CREATED:20250130T214618Z
LAST-MODIFIED:20250130T214618Z
UID:990003237-1776798000-1776801600@plymouthmiami.org
SUMMARY:Church Council Meeting
DESCRIPTION:
URL:https://plymouthmiami.org/event/church-council-meeting/2026-04-21/
END:VEVENT
BEGIN:VEVENT
DTSTART;TZID=UTC:20260423T080000
DTEND;TZID=UTC:20260423T090000
DTSTAMP:20260421T163748
CREATED:20240425T174914Z
LAST-MODIFIED:20250224T183108Z
UID:990000816-1776931200-1776934800@plymouthmiami.org
SUMMARY:Bible & Breakfast
DESCRIPTION:Berries in the Grove (& zoom)\nWe look at the weekly readings for the coming Sunday\nBerrie’s address (2884 SW 27th Ave)
URL:https://plymouthmiami.org/event/bible-breakfast-2-2-2-2/2026-04-23/
CATEGORIES:All Church
ATTACH;FMTTYPE=image/jpeg:https://plymouthmiami.org/wp-content/uploads/2024/04/Bible-Study-Logo-copy.jpg
END:VEVENT
BEGIN:VEVENT
DTSTART;TZID=UTC:20260425T100000
DTEND;TZID=UTC:20260425T110000
DTSTAMP:20260421T163748
CREATED:20240807T212442Z
LAST-MODIFIED:20250122T150632Z
UID:990002887-1777111200-1777114800@plymouthmiami.org
SUMMARY:Yoga In Faith
DESCRIPTION:Nurture your spirit with a yoga practice designed to connect movement with scripture readings as a spiritual practice. Cost: $10 per Saturday. Please do not let cost prohibit your participation. Your leaders for this experience are: Kristen Llorca (Certified Yoga Instructor) and Andrea Burt (Director of Children’s Ministries). Bring your yoga mat and an openness to trying something new. Yoga mats will be available. For more information\, contact Andrea Burt at andrea@plymouthmiami.org. We meet in McNaughton Hall.
URL:https://plymouthmiami.org/event/yoga-in-faith/2026-04-25/
CATEGORIES:All Church
ATTACH;FMTTYPE=image/png:https://plymouthmiami.org/wp-content/uploads/2024/02/Screen-Shot-2024-02-15-at-3.17.35-PM.png
END:VEVENT
BEGIN:VEVENT
DTSTART;TZID=UTC:20260425T100000
DTEND;TZID=UTC:20260425T110000
DTSTAMP:20260421T163748
CREATED:20260410T162742Z
LAST-MODIFIED:20260410T162742Z
UID:990004006-1777111200-1777114800@plymouthmiami.org
SUMMARY:Adult Ed - Orchids
DESCRIPTION:The Christian Adult Education Committee\, in honor of God’s beautiful creation\, invites you to our upcoming event\, “Orchids at Vizcaya Museum and Gardens\,” on April 25\, 2026 at 10 a.m. We’ll enjoy a special presentation with Vizcaya’s orchid curator\, Axel Cahiz. Limited to 15 people — RSVP required.\n3251 S Miami Ave.\, Miami\, FL 33129 \n 
URL:https://plymouthmiami.org/event/adult-ed-orchids/
ATTACH;FMTTYPE=image/jpeg:https://plymouthmiami.org/wp-content/uploads/2026/04/orchid.jpg
END:VEVENT
BEGIN:VEVENT
DTSTART;TZID=UTC:20260426T083000
DTEND;TZID=UTC:20260426T093000
DTSTAMP:20260421T163748
CREATED:20260404T134719Z
LAST-MODIFIED:20260404T134947Z
UID:990001719-1777192200-1777195800@plymouthmiami.org
SUMMARY:Bible & Bagels
DESCRIPTION:Plymouth Hall (and zoom)
URL:https://plymouthmiami.org/event/bible-bagels-2-2-2-2-2/2026-04-26/
CATEGORIES:All Church
END:VEVENT
BEGIN:VEVENT
DTSTART;TZID=UTC:20260426T100000
DTEND;TZID=UTC:20260426T110000
DTSTAMP:20260421T163748
CREATED:20260404T134114Z
LAST-MODIFIED:20260404T134517Z
UID:990000294-1777197600-1777201200@plymouthmiami.org
SUMMARY:Worship
DESCRIPTION:Sanctuary
URL:https://plymouthmiami.org/event/worship-2-2-2/2026-04-26/
CATEGORIES:All Church
END:VEVENT
BEGIN:VEVENT
DTSTART;TZID=UTC:20260426T110000
DTEND;TZID=UTC:20260426T120000
DTSTAMP:20260421T163748
CREATED:20260413T172527Z
LAST-MODIFIED:20260413T172527Z
UID:990004009-1777201200-1777204800@plymouthmiami.org
SUMMARY:New Member Sunday
DESCRIPTION:Join Us in celebrating our New Members Sunday.
URL:https://plymouthmiami.org/event/new-member-sunday-3/
ATTACH;FMTTYPE=image/jpeg:https://plymouthmiami.org/wp-content/uploads/2026/04/church-for-prospective-members-calendar.jpg
END:VEVENT
BEGIN:VEVENT
DTSTART;TZID=UTC:20260428T080000
DTEND;TZID=UTC:20260428T090000
DTSTAMP:20260421T163748
CREATED:20240425T175717Z
LAST-MODIFIED:20240425T175718Z
UID:990000555-1777363200-1777366800@plymouthmiami.org
SUMMARY:Men’s Bible Group
DESCRIPTION:Greenstreet Cafe (3468 Main Hwy\, Coconut Grove)
URL:https://plymouthmiami.org/event/mens-bible-group-2-2-2/2026-04-28/
CATEGORIES:All Church
END:VEVENT
BEGIN:VEVENT
DTSTART;TZID=UTC:20260428T133000
DTEND;TZID=UTC:20260428T150000
DTSTAMP:20260421T163748
CREATED:20260403T170530Z
LAST-MODIFIED:20260403T170531Z
UID:990003809-1777383000-1777388400@plymouthmiami.org
SUMMARY:Play Mahjong With Us!
DESCRIPTION:Play Mahjong with us! Interested in playing Mahjong with a group at Plymouth? We’ll be meeting every Tuesday in at 1:30 p.m. in Plymouth Hall. Please let Lauren de Lavalette (laurendelavalette@gmail.com) or Lynn Bunis (lynnbrandibunis@gmail.com) know if you plan to join us!
URL:https://plymouthmiami.org/event/mahjong-2/2026-04-28/
ATTACH;FMTTYPE=image/jpeg:https://plymouthmiami.org/wp-content/uploads/2026/02/Mahjong-calendar-size.jpg
END:VEVENT
BEGIN:VEVENT
DTSTART;TZID=UTC:20260430T080000
DTEND;TZID=UTC:20260430T090000
DTSTAMP:20260421T163748
CREATED:20240425T174914Z
LAST-MODIFIED:20250224T183108Z
UID:990000817-1777536000-1777539600@plymouthmiami.org
SUMMARY:Bible & Breakfast
DESCRIPTION:Berries in the Grove (& zoom)\nWe look at the weekly readings for the coming Sunday\nBerrie’s address (2884 SW 27th Ave)
URL:https://plymouthmiami.org/event/bible-breakfast-2-2-2-2/2026-04-30/
CATEGORIES:All Church
ATTACH;FMTTYPE=image/jpeg:https://plymouthmiami.org/wp-content/uploads/2024/04/Bible-Study-Logo-copy.jpg
END:VEVENT
END:VCALENDAR