BEGIN:VCALENDAR
VERSION:2.0
PRODID:-//Plymouth Congregational Church - ECPv6.15.20//NONSGML v1.0//EN
CALSCALE:GREGORIAN
METHOD:PUBLISH
X-ORIGINAL-URL:https://plymouthmiami.org
X-WR-CALDESC:Events for Plymouth Congregational Church
REFRESH-INTERVAL;VALUE=DURATION:PT1H
X-Robots-Tag:noindex
X-PUBLISHED-TTL:PT1H
BEGIN:VTIMEZONE
TZID:UTC
BEGIN:STANDARD
TZOFFSETFROM:+0000
TZOFFSETTO:+0000
TZNAME:UTC
DTSTART:20250101T000000
END:STANDARD
END:VTIMEZONE
BEGIN:VEVENT
DTSTART;TZID=UTC:20260301T083000
DTEND;TZID=UTC:20260301T093000
DTSTAMP:20260421T181114
CREATED:20240425T175318Z
LAST-MODIFIED:20240425T175431Z
UID:990001711-1772353800-1772357400@plymouthmiami.org
SUMMARY:Bible & Bagels
DESCRIPTION:Plymouth Hall (and zoom)
URL:https://plymouthmiami.org/event/bible-bagels-2-2-2-2/2026-03-01/
CATEGORIES:All Church
END:VEVENT
BEGIN:VEVENT
DTSTART;TZID=UTC:20260301T100000
DTEND;TZID=UTC:20260301T110000
DTSTAMP:20260421T181114
CREATED:20250205T172905Z
LAST-MODIFIED:20250205T172907Z
UID:990000286-1772359200-1772362800@plymouthmiami.org
SUMMARY:Worship
DESCRIPTION:Sanctuary
URL:https://plymouthmiami.org/event/worship-2-2/2026-03-01/
CATEGORIES:All Church
END:VEVENT
BEGIN:VEVENT
DTSTART;TZID=UTC:20260301T163000
DTEND;TZID=UTC:20260301T173000
DTSTAMP:20260421T181114
CREATED:20260218T164004Z
LAST-MODIFIED:20260218T164033Z
UID:990003523-1772382600-1772386200@plymouthmiami.org
SUMMARY:Middle School Youth Group
DESCRIPTION:Creative Opportunities exist all around us. When we look at the world through a creative lens we begin to recognize God’s handiwork that exists everywhere and in everyone! Come for a fun night of creativity! Longshore Youth House
URL:https://plymouthmiami.org/event/middle-school-youth-group-18/
ATTACH;FMTTYPE=image/jpeg:https://plymouthmiami.org/wp-content/uploads/2026/02/middle-Highschool.jpg
END:VEVENT
BEGIN:VEVENT
DTSTART;TZID=UTC:20260301T180000
DTEND;TZID=UTC:20260301T190000
DTSTAMP:20260421T181114
CREATED:20260218T155901Z
LAST-MODIFIED:20260218T160021Z
UID:990003783-1772388000-1772391600@plymouthmiami.org
SUMMARY:High School Youth Group
DESCRIPTION:Creative Opportunities exist all around us. When we look at the world through a creative lens we begin to recognize God’s handiwork that exists everywhere and in everyone! Come for a fun night of creativity and begin to see how God works in your life in ways you may never have considered! Longshore Youth Group
URL:https://plymouthmiami.org/event/high-school-youth-group-16/
ATTACH;FMTTYPE=image/jpeg:https://plymouthmiami.org/wp-content/uploads/2026/02/middle-Highschool.jpg
END:VEVENT
BEGIN:VEVENT
DTSTART;TZID=UTC:20260303T080000
DTEND;TZID=UTC:20260303T090000
DTSTAMP:20260421T181114
CREATED:20240425T175717Z
LAST-MODIFIED:20240425T175718Z
UID:990000547-1772524800-1772528400@plymouthmiami.org
SUMMARY:Men’s Bible Group
DESCRIPTION:Greenstreet Cafe (3468 Main Hwy\, Coconut Grove)
URL:https://plymouthmiami.org/event/mens-bible-group-2-2-2/2026-03-03/
CATEGORIES:All Church
END:VEVENT
BEGIN:VEVENT
DTSTART;TZID=UTC:20260303T133000
DTEND;TZID=UTC:20260303T150000
DTSTAMP:20260421T181114
CREATED:20260227T165856Z
LAST-MODIFIED:20260403T170454Z
UID:990003786-1772544600-1772550000@plymouthmiami.org
SUMMARY:Learn to play Mahjong
DESCRIPTION:Play Mahjong with us! Interested in playing Mahjong with a group at Plymouth? We’ll be meeting every Tuesday in at 1:30 p.m. in Plymouth Hall. Please let Lauren de Lavalette (laurendelavalette@gmail.com) or Lynn Bunis (lynnbrandibunis@gmail.com) know if you plan to join us!
URL:https://plymouthmiami.org/event/mahjong/2026-03-03/
ATTACH;FMTTYPE=image/jpeg:https://plymouthmiami.org/wp-content/uploads/2026/02/Mahjong-calendar-size.jpg
END:VEVENT
BEGIN:VEVENT
DTSTART;TZID=UTC:20260304T190000
DTEND;TZID=UTC:20260304T210000
DTSTAMP:20260421T181114
CREATED:20260218T153355Z
LAST-MODIFIED:20260218T153355Z
UID:990003519-1772650800-1772658000@plymouthmiami.org
SUMMARY:Barnes Circle Women's Fellowship
DESCRIPTION:Come ready to share something delicious\, bring your favorite drink\, and invite a friend along! This monthly gathering of Plymouth Women is a beautiful opportunity to connect\, laugh\, and grow together. We gather in each other’s homes for an evening filled with food\, friendship\, and heartfelt conversation. Use the link below to RSVP and join the fun! RSVP Here
URL:https://plymouthmiami.org/event/barnes-circle-womens-fellowship-7/
ATTACH;FMTTYPE=image/jpeg:https://plymouthmiami.org/wp-content/uploads/2026/02/barnes-march.jpg
END:VEVENT
BEGIN:VEVENT
DTSTART;TZID=UTC:20260305T080000
DTEND;TZID=UTC:20260305T090000
DTSTAMP:20260421T181114
CREATED:20240425T174914Z
LAST-MODIFIED:20250224T183108Z
UID:990000809-1772697600-1772701200@plymouthmiami.org
SUMMARY:Bible & Breakfast
DESCRIPTION:Berries in the Grove (& zoom)\nWe look at the weekly readings for the coming Sunday\nBerrie’s address (2884 SW 27th Ave)
URL:https://plymouthmiami.org/event/bible-breakfast-2-2-2-2/2026-03-05/
CATEGORIES:All Church
ATTACH;FMTTYPE=image/jpeg:https://plymouthmiami.org/wp-content/uploads/2024/04/Bible-Study-Logo-copy.jpg
END:VEVENT
BEGIN:VEVENT
DTSTART;TZID=UTC:20260306T100000
DTEND;TZID=UTC:20260306T120000
DTSTAMP:20260421T181114
CREATED:20260218T154942Z
LAST-MODIFIED:20260223T173000Z
UID:990003522-1772791200-1772798400@plymouthmiami.org
SUMMARY:Moms & Babies
DESCRIPTION:Would you and your baby like to meet other moms and babies? Women’s Fellowship is starting a monthly playgroup for you! The First Friday each month at 10 a.m. Please contact Raquel Lieven at raquellieven@gmail.com for details and to add your name to the email distribution list for this group.
URL:https://plymouthmiami.org/event/moms-babies-3/
ATTACH;FMTTYPE=image/jpeg:https://plymouthmiami.org/wp-content/uploads/2025/12/momsandbabies.jpg
END:VEVENT
BEGIN:VEVENT
DTSTART;TZID=UTC:20260307T100000
DTEND;TZID=UTC:20260307T110000
DTSTAMP:20260421T181114
CREATED:20240807T212442Z
LAST-MODIFIED:20250122T150632Z
UID:990002880-1772877600-1772881200@plymouthmiami.org
SUMMARY:Yoga In Faith
DESCRIPTION:Nurture your spirit with a yoga practice designed to connect movement with scripture readings as a spiritual practice. Cost: $10 per Saturday. Please do not let cost prohibit your participation. Your leaders for this experience are: Kristen Llorca (Certified Yoga Instructor) and Andrea Burt (Director of Children’s Ministries). Bring your yoga mat and an openness to trying something new. Yoga mats will be available. For more information\, contact Andrea Burt at andrea@plymouthmiami.org. We meet in McNaughton Hall.
URL:https://plymouthmiami.org/event/yoga-in-faith/2026-03-07/
CATEGORIES:All Church
ATTACH;FMTTYPE=image/png:https://plymouthmiami.org/wp-content/uploads/2024/02/Screen-Shot-2024-02-15-at-3.17.35-PM.png
END:VEVENT
BEGIN:VEVENT
DTSTART;TZID=UTC:20260308T083000
DTEND;TZID=UTC:20260308T093000
DTSTAMP:20260421T181114
CREATED:20240425T175318Z
LAST-MODIFIED:20240425T175431Z
UID:990001712-1772958600-1772962200@plymouthmiami.org
SUMMARY:Bible & Bagels
DESCRIPTION:Plymouth Hall (and zoom)
URL:https://plymouthmiami.org/event/bible-bagels-2-2-2-2/2026-03-08/
CATEGORIES:All Church
END:VEVENT
BEGIN:VEVENT
DTSTART;TZID=UTC:20260308T100000
DTEND;TZID=UTC:20260308T110000
DTSTAMP:20260421T181114
CREATED:20250205T172905Z
LAST-MODIFIED:20250205T172907Z
UID:990000287-1772964000-1772967600@plymouthmiami.org
SUMMARY:Worship
DESCRIPTION:Sanctuary
URL:https://plymouthmiami.org/event/worship-2-2/2026-03-08/
CATEGORIES:All Church
END:VEVENT
BEGIN:VEVENT
DTSTART;TZID=UTC:20260308T110000
DTEND;TZID=UTC:20260308T120000
DTSTAMP:20260421T181114
CREATED:20260210T181408Z
LAST-MODIFIED:20260220T160420Z
UID:990003518-1772967600-1772971200@plymouthmiami.org
SUMMARY:Lenten Lunch
DESCRIPTION:We warmly invite you to join us for a Lenten Lunch on Sunday\, March 8\, a time to gather in fellowship during this season of reflection and preparation. Come share conversation\, connection\, and community as we enjoy time together as a church family. We hope everyone will join in this special time of togetherness. To help us prepare the meal\, we kindly ask for a $5 per person.
URL:https://plymouthmiami.org/event/987517260/
ATTACH;FMTTYPE=image/jpeg:https://plymouthmiami.org/wp-content/uploads/2026/02/lenten-lunch-1.jpg
END:VEVENT
BEGIN:VEVENT
DTSTART;TZID=UTC:20260310T080000
DTEND;TZID=UTC:20260310T090000
DTSTAMP:20260421T181114
CREATED:20240425T175717Z
LAST-MODIFIED:20240425T175718Z
UID:990000548-1773129600-1773133200@plymouthmiami.org
SUMMARY:Men’s Bible Group
DESCRIPTION:Greenstreet Cafe (3468 Main Hwy\, Coconut Grove)
URL:https://plymouthmiami.org/event/mens-bible-group-2-2-2/2026-03-10/
CATEGORIES:All Church
END:VEVENT
BEGIN:VEVENT
DTSTART;TZID=UTC:20260310T133000
DTEND;TZID=UTC:20260310T150000
DTSTAMP:20260421T181114
CREATED:20260227T165856Z
LAST-MODIFIED:20260403T170454Z
UID:990003787-1773149400-1773154800@plymouthmiami.org
SUMMARY:Learn to play Mahjong
DESCRIPTION:Play Mahjong with us! Interested in playing Mahjong with a group at Plymouth? We’ll be meeting every Tuesday in at 1:30 p.m. in Plymouth Hall. Please let Lauren de Lavalette (laurendelavalette@gmail.com) or Lynn Bunis (lynnbrandibunis@gmail.com) know if you plan to join us!
URL:https://plymouthmiami.org/event/mahjong/2026-03-10/
ATTACH;FMTTYPE=image/jpeg:https://plymouthmiami.org/wp-content/uploads/2026/02/Mahjong-calendar-size.jpg
END:VEVENT
BEGIN:VEVENT
DTSTART;TZID=UTC:20260312T080000
DTEND;TZID=UTC:20260312T090000
DTSTAMP:20260421T181114
CREATED:20240425T174914Z
LAST-MODIFIED:20250224T183108Z
UID:990000810-1773302400-1773306000@plymouthmiami.org
SUMMARY:Bible & Breakfast
DESCRIPTION:Berries in the Grove (& zoom)\nWe look at the weekly readings for the coming Sunday\nBerrie’s address (2884 SW 27th Ave)
URL:https://plymouthmiami.org/event/bible-breakfast-2-2-2-2/2026-03-12/
CATEGORIES:All Church
ATTACH;FMTTYPE=image/jpeg:https://plymouthmiami.org/wp-content/uploads/2024/04/Bible-Study-Logo-copy.jpg
END:VEVENT
BEGIN:VEVENT
DTSTART;TZID=UTC:20260312T161000
DTEND;TZID=UTC:20260312T190000
DTSTAMP:20260421T181114
CREATED:20240801T115310Z
LAST-MODIFIED:20240801T115311Z
UID:990000046-1773331800-1773342000@plymouthmiami.org
SUMMARY:Chapman Dinner Service
DESCRIPTION:We welcome adult volunteers to help serve this monthly meal at Chapman. Use this link to sign up. Meet in the church parking lot at 4:10pm or at Chapman (1550 N Miami Ave\, Miami FL 33136) at 5pm.
URL:https://plymouthmiami.org/event/chapman-dinner-service-2-2-2/2026-03-12/
CATEGORIES:Service
ATTACH;FMTTYPE=image/png:https://plymouthmiami.org/wp-content/uploads/2024/02/chapman-logo.png
END:VEVENT
BEGIN:VEVENT
DTSTART;TZID=UTC:20260314T100000
DTEND;TZID=UTC:20260314T110000
DTSTAMP:20260421T181114
CREATED:20240807T212442Z
LAST-MODIFIED:20250122T150632Z
UID:990002881-1773482400-1773486000@plymouthmiami.org
SUMMARY:Yoga In Faith
DESCRIPTION:Nurture your spirit with a yoga practice designed to connect movement with scripture readings as a spiritual practice. Cost: $10 per Saturday. Please do not let cost prohibit your participation. Your leaders for this experience are: Kristen Llorca (Certified Yoga Instructor) and Andrea Burt (Director of Children’s Ministries). Bring your yoga mat and an openness to trying something new. Yoga mats will be available. For more information\, contact Andrea Burt at andrea@plymouthmiami.org. We meet in McNaughton Hall.
URL:https://plymouthmiami.org/event/yoga-in-faith/2026-03-14/
CATEGORIES:All Church
ATTACH;FMTTYPE=image/png:https://plymouthmiami.org/wp-content/uploads/2024/02/Screen-Shot-2024-02-15-at-3.17.35-PM.png
END:VEVENT
BEGIN:VEVENT
DTSTART;TZID=UTC:20260315T083000
DTEND;TZID=UTC:20260315T093000
DTSTAMP:20260421T181114
CREATED:20240425T175318Z
LAST-MODIFIED:20240425T175431Z
UID:990001713-1773563400-1773567000@plymouthmiami.org
SUMMARY:Bible & Bagels
DESCRIPTION:Plymouth Hall (and zoom)
URL:https://plymouthmiami.org/event/bible-bagels-2-2-2-2/2026-03-15/
CATEGORIES:All Church
END:VEVENT
BEGIN:VEVENT
DTSTART;TZID=UTC:20260315T100000
DTEND;TZID=UTC:20260315T110000
DTSTAMP:20260421T181114
CREATED:20250205T172905Z
LAST-MODIFIED:20250205T172907Z
UID:990000288-1773568800-1773572400@plymouthmiami.org
SUMMARY:Worship
DESCRIPTION:Sanctuary
URL:https://plymouthmiami.org/event/worship-2-2/2026-03-15/
CATEGORIES:All Church
END:VEVENT
BEGIN:VEVENT
DTSTART;TZID=UTC:20260315T110000
DTEND;TZID=UTC:20260315T120000
DTSTAMP:20260421T181114
CREATED:20240305T204429Z
LAST-MODIFIED:20250407T031604Z
UID:990001892-1773572400-1773576000@plymouthmiami.org
SUMMARY:This ’n That Collection
DESCRIPTION:The Shop will be collecting your new and gently used treasures at McNaughton Hall. Please drive up and a volunteer will assist you with your donations.
URL:https://plymouthmiami.org/event/this-n-that-collection-2/2026-03-15/
CATEGORIES:All Church,Service
ATTACH;FMTTYPE=image/png:https://plymouthmiami.org/wp-content/uploads/2024/02/Screen-Shot-2024-02-15-at-12.27.55-PM.png
END:VEVENT
BEGIN:VEVENT
DTSTART;TZID=UTC:20260315T110000
DTEND;TZID=UTC:20260315T120000
DTSTAMP:20260421T181114
CREATED:20250407T030837Z
LAST-MODIFIED:20250407T031219Z
UID:990000110-1773572400-1773576000@plymouthmiami.org
SUMMARY:Food Drive
DESCRIPTION:Drop off a bag of food to help support the Coconut Grove Crisis Food Pantry. Every item of food goes to helps end food insecurity in our community. You can pick up a blue Plymouth bag the Sunday before\, fill it and return it (or use any bag). Drop off in front of McNaughton Hall.
URL:https://plymouthmiami.org/event/food-drive-2-2/2026-03-15/
CATEGORIES:All Church,Service
ATTACH;FMTTYPE=image/png:https://plymouthmiami.org/wp-content/uploads/2024/02/Screen-Shot-2024-02-14-at-2.59.22-PM.png
END:VEVENT
BEGIN:VEVENT
DTSTART;TZID=UTC:20260315T111500
DTEND;TZID=UTC:20260315T133000
DTSTAMP:20260421T181114
CREATED:20260218T153941Z
LAST-MODIFIED:20260218T153941Z
UID:990003520-1773573300-1773581400@plymouthmiami.org
SUMMARY:Pickle Ball & BBQ
DESCRIPTION:All ages are welcome to join us for pickleball after church! Play\, cheer\, or enjoy food and fellowship. Meet friends\, have fun\, and connect in a relaxed\, friendly environment. We hope to see you there! Basketball Court
URL:https://plymouthmiami.org/event/pickle-ball-bbq/
ATTACH;FMTTYPE=image/jpeg:https://plymouthmiami.org/wp-content/uploads/2026/02/pickleball.jpg
END:VEVENT
BEGIN:VEVENT
DTSTART;TZID=UTC:20260315T163000
DTEND;TZID=UTC:20260315T180000
DTSTAMP:20260421T181114
CREATED:20260218T160415Z
LAST-MODIFIED:20260218T164502Z
UID:990003784-1773592200-1773597600@plymouthmiami.org
SUMMARY:Middle School Youth Group
DESCRIPTION:It’s game night at Plymouth! Come enjoy an outside adventure in competition and challenge with Laser Tag!! We will play from 4:30-5:30pm and then have pizza together from 5:30 – 6pm  You will not want to miss youth group this day! Longshore Youth House
URL:https://plymouthmiami.org/event/middle-school-youth-group-17/
ATTACH;FMTTYPE=image/jpeg:https://plymouthmiami.org/wp-content/uploads/2026/02/laser-tag.jpg
END:VEVENT
BEGIN:VEVENT
DTSTART;TZID=UTC:20260315T173000
DTEND;TZID=UTC:20260315T190000
DTSTAMP:20260421T181114
CREATED:20260218T160625Z
LAST-MODIFIED:20260218T164345Z
UID:990003785-1773595800-1773601200@plymouthmiami.org
SUMMARY:High School Youth Group
DESCRIPTION:It’s game night at Plymouth! Come enjoy an outside adventure in competition and challenge with Laser Tag!! We will begin with pizza together from 5:30 – 6pm and then play from 6 – 7pm. Invite a friend and come ready to go…you will not want to miss high school youth group! Longshore Youth House
URL:https://plymouthmiami.org/event/high-school-youth-group-17/
ATTACH;FMTTYPE=image/jpeg:https://plymouthmiami.org/wp-content/uploads/2026/02/laser-tag.jpg
END:VEVENT
BEGIN:VEVENT
DTSTART;TZID=UTC:20260317T080000
DTEND;TZID=UTC:20260317T090000
DTSTAMP:20260421T181114
CREATED:20240425T175717Z
LAST-MODIFIED:20240425T175718Z
UID:990000549-1773734400-1773738000@plymouthmiami.org
SUMMARY:Men’s Bible Group
DESCRIPTION:Greenstreet Cafe (3468 Main Hwy\, Coconut Grove)
URL:https://plymouthmiami.org/event/mens-bible-group-2-2-2/2026-03-17/
CATEGORIES:All Church
END:VEVENT
BEGIN:VEVENT
DTSTART;TZID=UTC:20260317T133000
DTEND;TZID=UTC:20260317T150000
DTSTAMP:20260421T181114
CREATED:20260227T165856Z
LAST-MODIFIED:20260403T170454Z
UID:990003788-1773754200-1773759600@plymouthmiami.org
SUMMARY:Learn to play Mahjong
DESCRIPTION:Play Mahjong with us! Interested in playing Mahjong with a group at Plymouth? We’ll be meeting every Tuesday in at 1:30 p.m. in Plymouth Hall. Please let Lauren de Lavalette (laurendelavalette@gmail.com) or Lynn Bunis (lynnbrandibunis@gmail.com) know if you plan to join us!
URL:https://plymouthmiami.org/event/mahjong/2026-03-17/
ATTACH;FMTTYPE=image/jpeg:https://plymouthmiami.org/wp-content/uploads/2026/02/Mahjong-calendar-size.jpg
END:VEVENT
BEGIN:VEVENT
DTSTART;TZID=UTC:20260317T190000
DTEND;TZID=UTC:20260317T200000
DTSTAMP:20260421T181114
CREATED:20250130T214618Z
LAST-MODIFIED:20250130T214618Z
UID:990003236-1773774000-1773777600@plymouthmiami.org
SUMMARY:Church Council Meeting
DESCRIPTION:
URL:https://plymouthmiami.org/event/church-council-meeting/2026-03-17/
END:VEVENT
BEGIN:VEVENT
DTSTART;TZID=UTC:20260319T080000
DTEND;TZID=UTC:20260319T090000
DTSTAMP:20260421T181114
CREATED:20240425T174914Z
LAST-MODIFIED:20250224T183108Z
UID:990000811-1773907200-1773910800@plymouthmiami.org
SUMMARY:Bible & Breakfast
DESCRIPTION:Berries in the Grove (& zoom)\nWe look at the weekly readings for the coming Sunday\nBerrie’s address (2884 SW 27th Ave)
URL:https://plymouthmiami.org/event/bible-breakfast-2-2-2-2/2026-03-19/
CATEGORIES:All Church
ATTACH;FMTTYPE=image/jpeg:https://plymouthmiami.org/wp-content/uploads/2024/04/Bible-Study-Logo-copy.jpg
END:VEVENT
BEGIN:VEVENT
DTSTART;TZID=UTC:20260321T100000
DTEND;TZID=UTC:20260321T110000
DTSTAMP:20260421T181114
CREATED:20240807T212442Z
LAST-MODIFIED:20250122T150632Z
UID:990002882-1774087200-1774090800@plymouthmiami.org
SUMMARY:Yoga In Faith
DESCRIPTION:Nurture your spirit with a yoga practice designed to connect movement with scripture readings as a spiritual practice. Cost: $10 per Saturday. Please do not let cost prohibit your participation. Your leaders for this experience are: Kristen Llorca (Certified Yoga Instructor) and Andrea Burt (Director of Children’s Ministries). Bring your yoga mat and an openness to trying something new. Yoga mats will be available. For more information\, contact Andrea Burt at andrea@plymouthmiami.org. We meet in McNaughton Hall.
URL:https://plymouthmiami.org/event/yoga-in-faith/2026-03-21/
CATEGORIES:All Church
ATTACH;FMTTYPE=image/png:https://plymouthmiami.org/wp-content/uploads/2024/02/Screen-Shot-2024-02-15-at-3.17.35-PM.png
END:VEVENT
END:VCALENDAR